BEGIN:VCALENDAR
VERSION:2.0
PRODID:-//www.leadershipunlimited.net//NONSGML kigkonsult.se iCalcreator 2.
 30.10//
CALSCALE:GREGORIAN
METHOD:PUBLISH
UID:8200253f-931c-4313-8111-b5f077c2bd2f
X-WR-CALDESC:Use the link below to register.
X-WR-RELCALID:94f04686887316005b81db64ad07f245
X-WR-TIMEZONE:America/Chicago
BEGIN:VTIMEZONE
TZID:America/Chicago
BEGIN:STANDARD
TZNAME:CST
DTSTART:20231105T020000
TZOFFSETFROM:-0500
TZOFFSETTO:-0600
RDATE:20241103T020000
RDATE:20251102T020000
END:STANDARD
BEGIN:DAYLIGHT
TZNAME:CDT
DTSTART:20240310T020000
TZOFFSETFROM:-0600
TZOFFSETTO:-0500
RDATE:20250309T020000
RDATE:20260308T020000
END:DAYLIGHT
END:VTIMEZONE
BEGIN:VEVENT
UID:599439a7-3925-497a-a6d2-306b0f4fa081
DTSTAMP:20260424T203131Z
DESCRIPTION:Use the link below to register.
DTSTART;TZID=America/Chicago:20241017T050000
DTEND;TZID=America/Chicago:20241017T050001
LOCATION:3180 W U.S. Highway 34\, Grand Island\, NE 68801 US
SUMMARY:Leadership Unlimited Summit
END:VEVENT
END:VCALENDAR
