BEGIN:VCALENDAR
VERSION:2.0
PRODID:-//www.leadershipunlimited.net//NONSGML kigkonsult.se iCalcreator 2.
 30.10//
CALSCALE:GREGORIAN
METHOD:PUBLISH
UID:a96e4f45-bc65-4a27-95ba-526c163f9214
X-WR-CALDESC:Join us for a one-day leadership training designed for high sc
 hool students eager to enhance their leadership skills! \n\nAttendance at 
 the summit will be an excused absence from school.  \n\nMore information t
 o come!
X-WR-RELCALID:3572a0c94798aa481c5887ab77376e7f
X-WR-TIMEZONE:America/Chicago
BEGIN:VTIMEZONE
TZID:America/Chicago
BEGIN:STANDARD
TZNAME:CST
DTSTART:20251102T020000
TZOFFSETFROM:-0500
TZOFFSETTO:-0600
RDATE:20261101T020000
END:STANDARD
BEGIN:DAYLIGHT
TZNAME:CDT
DTSTART:20260308T020000
TZOFFSETFROM:-0600
TZOFFSETTO:-0500
RDATE:20270314T020000
END:DAYLIGHT
END:VTIMEZONE
BEGIN:VEVENT
UID:41eba1df-5e05-4a06-9198-94f4abfb3aee
DTSTAMP:20260422T112248Z
DESCRIPTION:Join us for a one-day leadership training designed for high sch
 ool students eager to enhance their leadership skills! \n\nAttendance at t
 he summit will be an excused absence from school.  \n\nMore information to
  come!
DTSTART;TZID=America/Chicago:20260506T083000
DTEND;TZID=America/Chicago:20260506T150000
LOCATION:3180 W U.S. Highway 34\, Grand Island\, NE 68801 US
SUMMARY:2026 Youth Leadership Summit
END:VEVENT
END:VCALENDAR
